BEGIN:VCALENDAR
VERSION:2.0
PRODID:-//Tri-County Care - ECPv6.15.19//NONSGML v1.0//EN
CALSCALE:GREGORIAN
METHOD:PUBLISH
X-WR-CALNAME:Tri-County Care
X-ORIGINAL-URL:https://tricountycare.org
X-WR-CALDESC:Events for Tri-County Care
REFRESH-INTERVAL;VALUE=DURATION:PT1H
X-Robots-Tag:noindex
X-PUBLISHED-TTL:PT1H
BEGIN:VTIMEZONE
TZID:UTC
BEGIN:STANDARD
TZOFFSETFROM:+0000
TZOFFSETTO:+0000
TZNAME:UTC
DTSTART:20220101T000000
END:STANDARD
END:VTIMEZONE
BEGIN:VEVENT
DTSTART;TZID=UTC:20230104T120000
DTEND;TZID=UTC:20230104T130000
DTSTAMP:20260421T104505
CREATED:20221226T083031Z
LAST-MODIFIED:20231228T112356Z
UID:2009-1672833600-1672837200@tricountycare.org
SUMMARY:Tri-County Care 2023  New Enrollee  Orientation [DAY]
DESCRIPTION:What would you like to learn about Tri-County Care? \n\nIntroduction to the Care Management Team\nThe role of your Care Manager\nTransitioning seamlessly from Intake to Care Management\nNext steps in the process of obtaining waiver services– What are waiver services?\nImportant information for ensuring continual Medicaid coverage and benefits\n\nNew for 2023 we now offer a day and evening session! \nWe look forward to you joining us virtually on: \nThe First Wednesday of every month.
URL:https://tricountycare.org/event/tri-county-care-2023-new-enrollee-orientation-day-2023-01-04/
END:VEVENT
BEGIN:VEVENT
DTSTART;TZID=UTC:20230104T190000
DTEND;TZID=UTC:20230104T200000
DTSTAMP:20260421T104505
CREATED:20221226T083031Z
LAST-MODIFIED:20231228T112353Z
UID:2010-1672858800-1672862400@tricountycare.org
SUMMARY:Tri-County Care 2023  New Enrollee  Orientation [Evening]
DESCRIPTION:What would you like to learn about Tri-County Care? \n\nIntroduction to the Care Management Team\nThe role of your Care Manager\nTransitioning seamlessly from Intake to Care Management\nNext steps in the process of obtaining waiver services– What are waiver services?\nImportant information for ensuring continual Medicaid coverage and benefits\n\nNew for 2023 we now offer a day and evening session! \nWe look forward to you joining us virtually on: \nThe First Wednesday of every month.
URL:https://tricountycare.org/event/tri-county-care-2023-new-enrollee-orientation-evening-2023-01-04/
END:VEVENT
BEGIN:VEVENT
DTSTART;TZID=UTC:20230111T193000
DTEND;TZID=UTC:20230111T210000
DTSTAMP:20260421T104505
CREATED:20221223T132133Z
LAST-MODIFIED:20231228T112350Z
UID:1964-1673465400-1673470800@tricountycare.org
SUMMARY:Support Group
DESCRIPTION:Our 2023 Meetings are typically scheduled for the 2nd Wednesday of every month
URL:https://tricountycare.org/event/support-group-2023-01-11/
END:VEVENT
BEGIN:VEVENT
DTSTART;TZID=UTC:20230125T190000
DTEND;TZID=UTC:20230125T203000
DTSTAMP:20260421T104505
CREATED:20221226T072226Z
LAST-MODIFIED:20231228T112345Z
UID:1997-1674673200-1674678600@tricountycare.org
SUMMARY:What to expect with the Paths & Life Plan
DESCRIPTION:
URL:https://tricountycare.org/event/what-to-expect-with-the-paths-life-plan/
END:VEVENT
END:VCALENDAR