BEGIN:VCALENDAR
VERSION:2.0
PRODID:-//Tri-County Care - ECPv6.15.19//NONSGML v1.0//EN
CALSCALE:GREGORIAN
METHOD:PUBLISH
X-WR-CALNAME:Tri-County Care
X-ORIGINAL-URL:https://tricountycare.org
X-WR-CALDESC:Events for Tri-County Care
REFRESH-INTERVAL;VALUE=DURATION:PT1H
X-Robots-Tag:noindex
X-PUBLISHED-TTL:PT1H
BEGIN:VTIMEZONE
TZID:UTC
BEGIN:STANDARD
TZOFFSETFROM:+0000
TZOFFSETTO:+0000
TZNAME:UTC
DTSTART:20250101T000000
END:STANDARD
END:VTIMEZONE
BEGIN:VEVENT
DTSTART;TZID=UTC:20260527T190000
DTEND;TZID=UTC:20260527T200000
DTSTAMP:20260421T090724
CREATED:20251230T112414Z
LAST-MODIFIED:20251230T112414Z
UID:2766-1779908400-1779912000@tricountycare.org
SUMMARY:ABLE Accounts
DESCRIPTION:FAMILY WEBINARS\nJoin us for an informative evening on topics relevant to families of our members Webinars are held on Wednesdays from 7:00 pm to 8:00pm
URL:https://tricountycare.org/event/able-accounts/
END:VEVENT
BEGIN:VEVENT
DTSTART;TZID=UTC:20260617T193000
DTEND;TZID=UTC:20260617T193000
DTSTAMP:20260421T090724
CREATED:20251230T094158Z
LAST-MODIFIED:20251230T094158Z
UID:2750-1781724600-1781724600@tricountycare.org
SUMMARY:Support Group
DESCRIPTION:Join our support group – a safe place to share experiences\, connect with others\, and find strength in community.
URL:https://tricountycare.org/event/support-group-june-17-2026/
END:VEVENT
BEGIN:VEVENT
DTSTART;TZID=UTC:20260624T150000
DTEND;TZID=UTC:20260624T160000
DTSTAMP:20260421T090724
CREATED:20251230T122523Z
LAST-MODIFIED:20251230T122523Z
UID:2776-1782313200-1782316800@tricountycare.org
SUMMARY:Family Advisory Committee
DESCRIPTION:Get the latest news\, share your thoughts\, and make suggestions on how the health plan can improve.Add quality and value to our members!
URL:https://tricountycare.org/event/family-advisory-committee-june-24-2026/
END:VEVENT
BEGIN:VEVENT
DTSTART;TZID=UTC:20260624T190000
DTEND;TZID=UTC:20260624T200000
DTSTAMP:20260421T090724
CREATED:20251230T112513Z
LAST-MODIFIED:20251230T112513Z
UID:2767-1782327600-1782331200@tricountycare.org
SUMMARY:Guardianship and Financial Planning for the Future
DESCRIPTION:FAMILY WEBINARS\nJoin us for an informative evening on topics relevant to families of our members Webinars are held on Wednesdays from 7:00 pm to 8:00pm
URL:https://tricountycare.org/event/guardianship-and-financial-planning-for-the-future/
END:VEVENT
BEGIN:VEVENT
DTSTART;TZID=UTC:20260715T193000
DTEND;TZID=UTC:20260715T193000
DTSTAMP:20260421T090724
CREATED:20251230T094253Z
LAST-MODIFIED:20251230T094253Z
UID:2751-1784143800-1784143800@tricountycare.org
SUMMARY:Support Group
DESCRIPTION:Join our support group – a safe place to share experiences\, connect with others\, and find strength in community.
URL:https://tricountycare.org/event/support-group-july-15-2026/
END:VEVENT
BEGIN:VEVENT
DTSTART;TZID=UTC:20260722T190000
DTEND;TZID=UTC:20260722T200000
DTSTAMP:20260421T090724
CREATED:20251230T113311Z
LAST-MODIFIED:20251230T113311Z
UID:2768-1784746800-1784750400@tricountycare.org
SUMMARY:Parent to Parent: Becoming an Effective Advocate
DESCRIPTION:FAMILY WEBINARS\nJoin us for an informative evening on topics relevant to families of our members Webinars are held on Wednesdays from 7:00 pm to 8:00pm
URL:https://tricountycare.org/event/parent-to-parent-becoming-an-effective-advocate/
END:VEVENT
BEGIN:VEVENT
DTSTART;TZID=UTC:20260819T193000
DTEND;TZID=UTC:20260819T193000
DTSTAMP:20260421T090724
CREATED:20251230T094345Z
LAST-MODIFIED:20251230T094345Z
UID:2752-1787167800-1787167800@tricountycare.org
SUMMARY:Support Group
DESCRIPTION:Join our support group – a safe place to share experiences\, connect with others\, and find strength in community.
URL:https://tricountycare.org/event/support-group-august-19-2026/
END:VEVENT
BEGIN:VEVENT
DTSTART;TZID=UTC:20260826T190000
DTEND;TZID=UTC:20260826T200000
DTSTAMP:20260421T090724
CREATED:20251230T113435Z
LAST-MODIFIED:20251230T113435Z
UID:2769-1787770800-1787774400@tricountycare.org
SUMMARY:Self-Direction AIM Services
DESCRIPTION:FAMILY WEBINARS\nJoin us for an informative evening on topics relevant to families of our members Webinars are held on Wednesdays from 7:00 pm to 8:00pm
URL:https://tricountycare.org/event/self-direction-aim-services/
END:VEVENT
BEGIN:VEVENT
DTSTART;TZID=UTC:20260916T193000
DTEND;TZID=UTC:20260916T193000
DTSTAMP:20260421T090724
CREATED:20251230T094440Z
LAST-MODIFIED:20251230T094440Z
UID:2753-1789587000-1789587000@tricountycare.org
SUMMARY:Support Group
DESCRIPTION:Join our support group – a safe place to share experiences\, connect with others\, and find strength in community.
URL:https://tricountycare.org/event/support-group-september-16-2026/
END:VEVENT
BEGIN:VEVENT
DTSTART;TZID=UTC:20260923T120000
DTEND;TZID=UTC:20260923T130000
DTSTAMP:20260421T090724
CREATED:20251230T122629Z
LAST-MODIFIED:20251230T122629Z
UID:2777-1790164800-1790168400@tricountycare.org
SUMMARY:Family Advisory Committee
DESCRIPTION:Get the latest news\, share your thoughts\, and make suggestions on how the health plan can improve.Add quality and value to our members!
URL:https://tricountycare.org/event/family-advisory-committee-september-23-2026/
END:VEVENT
BEGIN:VEVENT
DTSTART;TZID=UTC:20260923T190000
DTEND;TZID=UTC:20260923T200000
DTSTAMP:20260421T090724
CREATED:20251230T113540Z
LAST-MODIFIED:20251230T113540Z
UID:2770-1790190000-1790193600@tricountycare.org
SUMMARY:Parent to Parent Letter Writing
DESCRIPTION:FAMILY WEBINARS\nJoin us for an informative evening on topics relevant to families of our members Webinars are held on Wednesdays from 7:00 pm to 8:00pm
URL:https://tricountycare.org/event/parent-to-parent-letter-writing/
END:VEVENT
BEGIN:VEVENT
DTSTART;TZID=UTC:20261021T193000
DTEND;TZID=UTC:20261021T193000
DTSTAMP:20260421T090724
CREATED:20251230T094533Z
LAST-MODIFIED:20251230T094533Z
UID:2754-1792611000-1792611000@tricountycare.org
SUMMARY:Support Group
DESCRIPTION:Join our support group – a safe place to share experiences\, connect with others\, and find strength in community.
URL:https://tricountycare.org/event/support-group-october-21-2026/
END:VEVENT
BEGIN:VEVENT
DTSTART;TZID=UTC:20261028T190000
DTEND;TZID=UTC:20261028T200000
DTSTAMP:20260421T090724
CREATED:20251230T113727Z
LAST-MODIFIED:20251230T113727Z
UID:2771-1793214000-1793217600@tricountycare.org
SUMMARY:Health Care Promotion
DESCRIPTION:FAMILY WEBINARS\nJoin us for an informative evening on topics relevant to families of our members Webinars are held on Wednesdays from 7:00 pm to 8:00pm
URL:https://tricountycare.org/event/health-care-promotion/
END:VEVENT
BEGIN:VEVENT
DTSTART;TZID=UTC:20261118T193000
DTEND;TZID=UTC:20261118T193000
DTSTAMP:20260421T090724
CREATED:20251230T094627Z
LAST-MODIFIED:20251230T094627Z
UID:2755-1795030200-1795030200@tricountycare.org
SUMMARY:Support Group
DESCRIPTION:Join our support group – a safe place to share experiences\, connect with others\, and find strength in community.
URL:https://tricountycare.org/event/support-group-november-18-2026/
END:VEVENT
BEGIN:VEVENT
DTSTART;TZID=UTC:20261124T120000
DTEND;TZID=UTC:20261124T130000
DTSTAMP:20260421T090724
CREATED:20251230T113942Z
LAST-MODIFIED:20251231T083826Z
UID:2762-1795521600-1795525200@tricountycare.org
SUMMARY:Self-Direction – Braverhood
DESCRIPTION:FAMILY WEBINARS\nJoin us for an informative evening on topics relevant to families of our members Webinars are held on Tuesday from 12:00 pm to 1:00pm
URL:https://tricountycare.org/event/self-direction-braverhood-2/
END:VEVENT
BEGIN:VEVENT
DTSTART;TZID=UTC:20261216T130000
DTEND;TZID=UTC:20261216T140000
DTSTAMP:20260421T090724
CREATED:20251230T122845Z
LAST-MODIFIED:20251230T122845Z
UID:2778-1797426000-1797429600@tricountycare.org
SUMMARY:Family Advisory Committee
DESCRIPTION:Get the latest news\, share your thoughts\, and make suggestions on how the health plan can improve.Add quality and value to our members!
URL:https://tricountycare.org/event/family-advisory-committee-december-16-2026/
END:VEVENT
BEGIN:VEVENT
DTSTART;TZID=UTC:20261216T193000
DTEND;TZID=UTC:20261216T193000
DTSTAMP:20260421T090724
CREATED:20251230T094730Z
LAST-MODIFIED:20251230T094730Z
UID:2756-1797449400-1797449400@tricountycare.org
SUMMARY:Support Group
DESCRIPTION:Join our support group – a safe place to share experiences\, connect with others\, and find strength in community.
URL:https://tricountycare.org/event/support-group-december-16-2026/
END:VEVENT
END:VCALENDAR