BEGIN:VCALENDAR
VERSION:2.0
PRODID:-//Tri-County Care - ECPv6.15.19//NONSGML v1.0//EN
CALSCALE:GREGORIAN
METHOD:PUBLISH
X-WR-CALNAME:Tri-County Care
X-ORIGINAL-URL:https://tricountycare.org
X-WR-CALDESC:Events for Tri-County Care
REFRESH-INTERVAL;VALUE=DURATION:PT1H
X-Robots-Tag:noindex
X-PUBLISHED-TTL:PT1H
BEGIN:VTIMEZONE
TZID:UTC
BEGIN:STANDARD
TZOFFSETFROM:+0000
TZOFFSETTO:+0000
TZNAME:UTC
DTSTART:20250101T000000
END:STANDARD
END:VTIMEZONE
BEGIN:VEVENT
DTSTART;TZID=UTC:20260415T193000
DTEND;TZID=UTC:20260415T193000
DTSTAMP:20260421T090355
CREATED:20251230T094007Z
LAST-MODIFIED:20251230T094007Z
UID:2748-1776281400-1776281400@tricountycare.org
SUMMARY:Support Group
DESCRIPTION:Join our support group – a safe place to share experiences\, connect with others\, and find strength in community.
URL:https://tricountycare.org/event/support-group-april-15-2026/
END:VEVENT
END:VCALENDAR